{"text_format":"1","workbook":"xlsx","n_sheets":3,"sheets":["入力シート","完成例","高体連番号"],"not_rendered":{"charts":0,"images":1,"macros":1,"external_links":0,"defined_names":1,"comments":0,"pivot_tables":0},"unopened":[],"bounds":{"document_bytes":16777216,"sheet_cells":100000,"rows_first":2000,"rows_last":500,"rows_between":2000,"halvings":0,"cell_chars":16384,"cell_head_chars":4096},"cells_cut":0,"cells_raw":0,"read":"whole","date_system":"1900"}

{"sheet":"入力シート","index":0,"n_rows":207,"n_cols":46,"rows_kept":207,"cut":false,"hidden":false,"merged":[[3,36,4,40],[3,41,4,45],[3,11,4,15],[3,16,4,20],[3,21,4,25],[3,26,4,30],[3,31,4,35],[1,1,1,2],[1,3,1,4],[2,1,3,2],[2,3,3,4],[3,6,4,10],[1,6,1,19]]}
[]
[null,"競技名",null,null,null,null,"県高校総体　学校関係者委嘱状（白色）　入力フォーム"]
[null,"発送日"]
[null,null,null,null,null,null,"委嘱状　NO1",null,null,null,null,"委嘱状　NO2",null,null,null,null,"委嘱状　NO3",null,null,null,null,"委嘱状　NO4",null,null,null,null,"委嘱状　NO5",null,null,null,null,"委嘱状　NO6",null,null,null,null,"委嘱状　NO7",null,null,null,null,"委嘱状　NO8"]
[]
[null,"NO","高体連番号","所属学校名","役員職名","氏名","月","日","曜日","開始時間","会場","月","日","曜日","開始時間","会場","月","日","曜日","開始時間","会場","月","日","曜日","開始時間","会場","月","日","曜日","開始時間","会場","月","日","曜日","開始時間","会場","月","日","曜日","開始時間","会場","月","日","曜日","開始時間","会場"]
[null,"記入例",4,{"$f":"IFERROR(VLOOKUP(C7,高体連番号!$A$2:$C$81,3),\"\")","v":"前橋商業高等学校"},"競技役員","高体連　太郎",5,14,"金","08:30:00","正田醤油スタジアム群馬",5,15,"土","08:30:00","正田醤油スタジアム群馬",5,16,"日 ","08:30:00","正田醤油スタジアム群馬"]
[null,1,null,{"$f":"IFERROR(VLOOKUP(C8,高体連番号!$A$2:$C$81,3),\"\")","v":""}]
[null,2,null,{"$f":"IFERROR(VLOOKUP(C9,高体連番号!$A$2:$C$81,3),\"\")","v":""}]
[null,3,null,{"$f":"IFERROR(VLOOKUP(C10,高体連番号!$A$2:$C$81,3),\"\")","v":""}]
[null,4,null,{"$f":"IFERROR(VLOOKUP(C11,高体連番号!$A$2:$C$81,3),\"\")","v":""}]
[null,5,null,{"$f":"IFERROR(VLOOKUP(C12,高体連番号!$A$2:$C$81,3),\"\")","v":""}]
[null,6,null,{"$f":"IFERROR(VLOOKUP(C13,高体連番号!$A$2:$C$81,3),\"\")","v":""}]
[null,7,null,{"$f":"IFERROR(VLOOKUP(C14,高体連番号!$A$2:$C$81,3),\"\")","v":""}]
[null,8,null,{"$f":"IFERROR(VLOOKUP(C15,高体連番号!$A$2:$C$81,3),\"\")","v":""}]
[null,9,null,{"$f":"IFERROR(VLOOKUP(C16,高体連番号!$A$2:$C$81,3),\"\")","v":""}]
[null,10,null,{"$f":"IFERROR(VLOOKUP(C17,高体連番号!$A$2:$C$81,3),\"\")","v":""}]
[null,11,null,{"$f":"IFERROR(VLOOKUP(C18,高体連番号!$A$2:$C$81,3),\"\")","v":""}]
[null,12,null,{"$f":"IFERROR(VLOOKUP(C19,高体連番号!$A$2:$C$81,3),\"\")","v":""}]
[null,13,null,{"$f":"IFERROR(VLOOKUP(C20,高体連番号!$A$2:$C$81,3),\"\")","v":""}]
[null,14,null,{"$f":"IFERROR(VLOOKUP(C21,高体連番号!$A$2:$C$81,3),\"\")","v":""}]
[null,15,null,{"$f":"IFERROR(VLOOKUP(C22,高体連番号!$A$2:$C$81,3),\"\")","v":""}]
[null,16,null,{"$f":"IFERROR(VLOOKUP(C23,高体連番号!$A$2:$C$81,3),\"\")","v":""}]
[null,17,null,{"$f":"IFERROR(VLOOKUP(C24,高体連番号!$A$2:$C$81,3),\"\")","v":""}]
[null,18,null,{"$f":"IFERROR(VLOOKUP(C25,高体連番号!$A$2:$C$81,3),\"\")","v":""}]
[null,19,null,{"$f":"IFERROR(VLOOKUP(C26,高体連番号!$A$2:$C$81,3),\"\")","v":""}]
[null,20,null,{"$f":"IFERROR(VLOOKUP(C27,高体連番号!$A$2:$C$81,3),\"\")","v":""}]
[null,21,null,{"$f":"IFERROR(VLOOKUP(C28,高体連番号!$A$2:$C$81,3),\"\")","v":""}]
[null,22,null,{"$f":"IFERROR(VLOOKUP(C29,高体連番号!$A$2:$C$81,3),\"\")","v":""}]
[null,23,null,{"$f":"IFERROR(VLOOKUP(C30,高体連番号!$A$2:$C$81,3),\"\")","v":""}]
[null,24,null,{"$f":"IFERROR(VLOOKUP(C31,高体連番号!$A$2:$C$81,3),\"\")","v":""}]
[null,25,null,{"$f":"IFERROR(VLOOKUP(C32,高体連番号!$A$2:$C$81,3),\"\")","v":""}]
[null,26,null,{"$f":"IFERROR(VLOOKUP(C33,高体連番号!$A$2:$C$81,3),\"\")","v":""}]
[null,27,null,{"$f":"IFERROR(VLOOKUP(C34,高体連番号!$A$2:$C$81,3),\"\")","v":""}]
[null,28,null,{"$f":"IFERROR(VLOOKUP(C35,高体連番号!$A$2:$C$81,3),\"\")","v":""}]
[null,29,null,{"$f":"IFERROR(VLOOKUP(C36,高体連番号!$A$2:$C$81,3),\"\")","v":""}]
[null,30,null,{"$f":"IFERROR(VLOOKUP(C37,高体連番号!$A$2:$C$81,3),\"\")","v":""}]
[null,31,null,{"$f":"IFERROR(VLOOKUP(C38,高体連番号!$A$2:$C$81,3),\"\")","v":""}]
[null,32,null,{"$f":"IFERROR(VLOOKUP(C39,高体連番号!$A$2:$C$81,3),\"\")","v":""}]
[null,33,null,{"$f":"IFERROR(VLOOKUP(C40,高体連番号!$A$2:$C$81,3),\"\")","v":""}]
[null,34,null,{"$f":"IFERROR(VLOOKUP(C41,高体連番号!$A$2:$C$81,3),\"\")","v":""}]
[null,35,null,{"$f":"IFERROR(VLOOKUP(C42,高体連番号!$A$2:$C$81,3),\"\")","v":""}]
[null,36,null,{"$f":"IFERROR(VLOOKUP(C43,高体連番号!$A$2:$C$81,3),\"\")","v":""}]
[null,37,null,{"$f":"IFERROR(VLOOKUP(C44,高体連番号!$A$2:$C$81,3),\"\")","v":""}]
[null,38,null,{"$f":"IFERROR(VLOOKUP(C45,高体連番号!$A$2:$C$81,3),\"\")","v":""}]
[null,39,null,{"$f":"IFERROR(VLOOKUP(C46,高体連番号!$A$2:$C$81,3),\"\")","v":""}]
[null,40,null,{"$f":"IFERROR(VLOOKUP(C47,高体連番号!$A$2:$C$81,3),\"\")","v":""}]
[null,41,null,{"$f":"IFERROR(VLOOKUP(C48,高体連番号!$A$2:$C$81,3),\"\")","v":""}]
[null,42,null,{"$f":"IFERROR(VLOOKUP(C49,高体連番号!$A$2:$C$81,3),\"\")","v":""}]
[null,43,null,{"$f":"IFERROR(VLOOKUP(C50,高体連番号!$A$2:$C$81,3),\"\")","v":""}]
[null,44,null,{"$f":"IFERROR(VLOOKUP(C51,高体連番号!$A$2:$C$81,3),\"\")","v":""}]
[null,45,null,{"$f":"IFERROR(VLOOKUP(C52,高体連番号!$A$2:$C$81,3),\"\")","v":""}]
[null,46,null,{"$f":"IFERROR(VLOOKUP(C53,高体連番号!$A$2:$C$81,3),\"\")","v":""}]
[null,47,null,{"$f":"IFERROR(VLOOKUP(C54,高体連番号!$A$2:$C$81,3),\"\")","v":""}]
[null,48,null,{"$f":"IFERROR(VLOOKUP(C55,高体連番号!$A$2:$C$81,3),\"\")","v":""}]
[null,49,null,{"$f":"IFERROR(VLOOKUP(C56,高体連番号!$A$2:$C$81,3),\"\")","v":""}]
[null,50,null,{"$f":"IFERROR(VLOOKUP(C57,高体連番号!$A$2:$C$81,3),\"\")","v":""}]
[null,51,null,{"$f":"IFERROR(VLOOKUP(C58,高体連番号!$A$2:$C$81,3),\"\")","v":""}]
[null,52,null,{"$f":"IFERROR(VLOOKUP(C59,高体連番号!$A$2:$C$81,3),\"\")","v":""}]
[null,53,null,{"$f":"IFERROR(VLOOKUP(C60,高体連番号!$A$2:$C$81,3),\"\")","v":""}]
[null,54,null,{"$f":"IFERROR(VLOOKUP(C61,高体連番号!$A$2:$C$81,3),\"\")","v":""}]
[null,55,null,{"$f":"IFERROR(VLOOKUP(C62,高体連番号!$A$2:$C$81,3),\"\")","v":""}]
[null,56,null,{"$f":"IFERROR(VLOOKUP(C63,高体連番号!$A$2:$C$81,3),\"\")","v":""}]
[null,57,null,{"$f":"IFERROR(VLOOKUP(C64,高体連番号!$A$2:$C$81,3),\"\")","v":""}]
[null,58,null,{"$f":"IFERROR(VLOOKUP(C65,高体連番号!$A$2:$C$81,3),\"\")","v":""}]
[null,59,null,{"$f":"IFERROR(VLOOKUP(C66,高体連番号!$A$2:$C$81,3),\"\")","v":""}]
[null,60,null,{"$f":"IFERROR(VLOOKUP(C67,高体連番号!$A$2:$C$81,3),\"\")","v":""}]
[null,61,null,{"$f":"IFERROR(VLOOKUP(C68,高体連番号!$A$2:$C$81,3),\"\")","v":""}]
[null,62,null,{"$f":"IFERROR(VLOOKUP(C69,高体連番号!$A$2:$C$81,3),\"\")","v":""}]
[null,63,null,{"$f":"IFERROR(VLOOKUP(C70,高体連番号!$A$2:$C$81,3),\"\")","v":""}]
[null,64,null,{"$f":"IFERROR(VLOOKUP(C71,高体連番号!$A$2:$C$81,3),\"\")","v":""}]
[null,65,null,{"$f":"IFERROR(VLOOKUP(C72,高体連番号!$A$2:$C$81,3),\"\")","v":""}]
[null,66,null,{"$f":"IFERROR(VLOOKUP(C73,高体連番号!$A$2:$C$81,3),\"\")","v":""}]
[null,67,null,{"$f":"IFERROR(VLOOKUP(C74,高体連番号!$A$2:$C$81,3),\"\")","v":""}]
[null,68,null,{"$f":"IFERROR(VLOOKUP(C75,高体連番号!$A$2:$C$81,3),\"\")","v":""}]
[null,69,null,{"$f":"IFERROR(VLOOKUP(C76,高体連番号!$A$2:$C$81,3),\"\")","v":""}]
[null,70,null,{"$f":"IFERROR(VLOOKUP(C77,高体連番号!$A$2:$C$81,3),\"\")","v":""}]
[null,71,null,{"$f":"IFERROR(VLOOKUP(C78,高体連番号!$A$2:$C$81,3),\"\")","v":""}]
[null,72,null,{"$f":"IFERROR(VLOOKUP(C79,高体連番号!$A$2:$C$81,3),\"\")","v":""}]
[null,73,null,{"$f":"IFERROR(VLOOKUP(C80,高体連番号!$A$2:$C$81,3),\"\")","v":""}]
[null,74,null,{"$f":"IFERROR(VLOOKUP(C81,高体連番号!$A$2:$C$81,3),\"\")","v":""}]
[null,75,null,{"$f":"IFERROR(VLOOKUP(C82,高体連番号!$A$2:$C$81,3),\"\")","v":""}]
[null,76,null,{"$f":"IFERROR(VLOOKUP(C83,高体連番号!$A$2:$C$81,3),\"\")","v":""}]
[null,77,null,{"$f":"IFERROR(VLOOKUP(C84,高体連番号!$A$2:$C$81,3),\"\")","v":""}]
[null,78,null,{"$f":"IFERROR(VLOOKUP(C85,高体連番号!$A$2:$C$81,3),\"\")","v":""}]
[null,79,null,{"$f":"IFERROR(VLOOKUP(C86,高体連番号!$A$2:$C$81,3),\"\")","v":""}]
[null,80,null,{"$f":"IFERROR(VLOOKUP(C87,高体連番号!$A$2:$C$81,3),\"\")","v":""}]
[null,81,null,{"$f":"IFERROR(VLOOKUP(C88,高体連番号!$A$2:$C$81,3),\"\")","v":""}]
[null,82,null,{"$f":"IFERROR(VLOOKUP(C89,高体連番号!$A$2:$C$81,3),\"\")","v":""}]
[null,83,null,{"$f":"IFERROR(VLOOKUP(C90,高体連番号!$A$2:$C$81,3),\"\")","v":""}]
[null,84,null,{"$f":"IFERROR(VLOOKUP(C91,高体連番号!$A$2:$C$81,3),\"\")","v":""}]
[null,85,null,{"$f":"IFERROR(VLOOKUP(C92,高体連番号!$A$2:$C$81,3),\"\")","v":""}]
[null,86,null,{"$f":"IFERROR(VLOOKUP(C93,高体連番号!$A$2:$C$81,3),\"\")","v":""}]
[null,87,null,{"$f":"IFERROR(VLOOKUP(C94,高体連番号!$A$2:$C$81,3),\"\")","v":""}]
[null,88,null,{"$f":"IFERROR(VLOOKUP(C95,高体連番号!$A$2:$C$81,3),\"\")","v":""}]
[null,89,null,{"$f":"IFERROR(VLOOKUP(C96,高体連番号!$A$2:$C$81,3),\"\")","v":""}]
[null,90,null,{"$f":"IFERROR(VLOOKUP(C97,高体連番号!$A$2:$C$81,3),\"\")","v":""}]
[null,91,null,{"$f":"IFERROR(VLOOKUP(C98,高体連番号!$A$2:$C$81,3),\"\")","v":""}]
[null,92,null,{"$f":"IFERROR(VLOOKUP(C99,高体連番号!$A$2:$C$81,3),\"\")","v":""}]
[null,93,null,{"$f":"IFERROR(VLOOKUP(C100,高体連番号!$A$2:$C$81,3),\"\")","v":""}]
[null,94,null,{"$f":"IFERROR(VLOOKUP(C101,高体連番号!$A$2:$C$81,3),\"\")","v":""}]
[null,95,null,{"$f":"IFERROR(VLOOKUP(C102,高体連番号!$A$2:$C$81,3),\"\")","v":""}]
[null,96,null,{"$f":"IFERROR(VLOOKUP(C103,高体連番号!$A$2:$C$81,3),\"\")","v":""}]
[null,97,null,{"$f":"IFERROR(VLOOKUP(C104,高体連番号!$A$2:$C$81,3),\"\")","v":""}]
[null,98,null,{"$f":"IFERROR(VLOOKUP(C105,高体連番号!$A$2:$C$81,3),\"\")","v":""}]
[null,99,null,{"$f":"IFERROR(VLOOKUP(C106,高体連番号!$A$2:$C$81,3),\"\")","v":""}]
[null,100,null,{"$f":"IFERROR(VLOOKUP(C107,高体連番号!$A$2:$C$81,3),\"\")","v":""}]
[null,101,null,{"$f":"IFERROR(VLOOKUP(C108,高体連番号!$A$2:$C$81,3),\"\")","v":""}]
[null,102,null,{"$f":"IFERROR(VLOOKUP(C109,高体連番号!$A$2:$C$81,3),\"\")","v":""}]
[null,103,null,{"$f":"IFERROR(VLOOKUP(C110,高体連番号!$A$2:$C$81,3),\"\")","v":""}]
[null,104,null,{"$f":"IFERROR(VLOOKUP(C111,高体連番号!$A$2:$C$81,3),\"\")","v":""}]
[null,105,null,{"$f":"IFERROR(VLOOKUP(C112,高体連番号!$A$2:$C$81,3),\"\")","v":""}]
[null,106,null,{"$f":"IFERROR(VLOOKUP(C113,高体連番号!$A$2:$C$81,3),\"\")","v":""}]
[null,107,null,{"$f":"IFERROR(VLOOKUP(C114,高体連番号!$A$2:$C$81,3),\"\")","v":""}]
[null,108,null,{"$f":"IFERROR(VLOOKUP(C115,高体連番号!$A$2:$C$81,3),\"\")","v":""}]
[null,109,null,{"$f":"IFERROR(VLOOKUP(C116,高体連番号!$A$2:$C$81,3),\"\")","v":""}]
[null,110,null,{"$f":"IFERROR(VLOOKUP(C117,高体連番号!$A$2:$C$81,3),\"\")","v":""}]
[null,111,null,{"$f":"IFERROR(VLOOKUP(C118,高体連番号!$A$2:$C$81,3),\"\")","v":""}]
[null,112,null,{"$f":"IFERROR(VLOOKUP(C119,高体連番号!$A$2:$C$81,3),\"\")","v":""}]
[null,113,null,{"$f":"IFERROR(VLOOKUP(C120,高体連番号!$A$2:$C$81,3),\"\")","v":""}]
[null,114,null,{"$f":"IFERROR(VLOOKUP(C121,高体連番号!$A$2:$C$81,3),\"\")","v":""}]
[null,115,null,{"$f":"IFERROR(VLOOKUP(C122,高体連番号!$A$2:$C$81,3),\"\")","v":""}]
[null,116,null,{"$f":"IFERROR(VLOOKUP(C123,高体連番号!$A$2:$C$81,3),\"\")","v":""}]
[null,117,null,{"$f":"IFERROR(VLOOKUP(C124,高体連番号!$A$2:$C$81,3),\"\")","v":""}]
[null,118,null,{"$f":"IFERROR(VLOOKUP(C125,高体連番号!$A$2:$C$81,3),\"\")","v":""}]
[null,119,null,{"$f":"IFERROR(VLOOKUP(C126,高体連番号!$A$2:$C$81,3),\"\")","v":""}]
[null,120,null,{"$f":"IFERROR(VLOOKUP(C127,高体連番号!$A$2:$C$81,3),\"\")","v":""}]
[null,121,null,{"$f":"IFERROR(VLOOKUP(C128,高体連番号!$A$2:$C$81,3),\"\")","v":""}]
[null,122,null,{"$f":"IFERROR(VLOOKUP(C129,高体連番号!$A$2:$C$81,3),\"\")","v":""}]
[null,123,null,{"$f":"IFERROR(VLOOKUP(C130,高体連番号!$A$2:$C$81,3),\"\")","v":""}]
[null,124,null,{"$f":"IFERROR(VLOOKUP(C131,高体連番号!$A$2:$C$81,3),\"\")","v":""}]
[null,125,null,{"$f":"IFERROR(VLOOKUP(C132,高体連番号!$A$2:$C$81,3),\"\")","v":""}]
[null,126,null,{"$f":"IFERROR(VLOOKUP(C133,高体連番号!$A$2:$C$81,3),\"\")","v":""}]
[null,127,null,{"$f":"IFERROR(VLOOKUP(C134,高体連番号!$A$2:$C$81,3),\"\")","v":""}]
[null,128,null,{"$f":"IFERROR(VLOOKUP(C135,高体連番号!$A$2:$C$81,3),\"\")","v":""}]
[null,129,null,{"$f":"IFERROR(VLOOKUP(C136,高体連番号!$A$2:$C$81,3),\"\")","v":""}]
[null,130,null,{"$f":"IFERROR(VLOOKUP(C137,高体連番号!$A$2:$C$81,3),\"\")","v":""}]
[null,131,null,{"$f":"IFERROR(VLOOKUP(C138,高体連番号!$A$2:$C$81,3),\"\")","v":""}]
[null,132,null,{"$f":"IFERROR(VLOOKUP(C139,高体連番号!$A$2:$C$81,3),\"\")","v":""}]
[null,133,null,{"$f":"IFERROR(VLOOKUP(C140,高体連番号!$A$2:$C$81,3),\"\")","v":""}]
[null,134,null,{"$f":"IFERROR(VLOOKUP(C141,高体連番号!$A$2:$C$81,3),\"\")","v":""}]
[null,135,null,{"$f":"IFERROR(VLOOKUP(C142,高体連番号!$A$2:$C$81,3),\"\")","v":""}]
[null,136,null,{"$f":"IFERROR(VLOOKUP(C143,高体連番号!$A$2:$C$81,3),\"\")","v":""}]
[null,137,null,{"$f":"IFERROR(VLOOKUP(C144,高体連番号!$A$2:$C$81,3),\"\")","v":""}]
[null,138,null,{"$f":"IFERROR(VLOOKUP(C145,高体連番号!$A$2:$C$81,3),\"\")","v":""}]
[null,139,null,{"$f":"IFERROR(VLOOKUP(C146,高体連番号!$A$2:$C$81,3),\"\")","v":""}]
[null,140,null,{"$f":"IFERROR(VLOOKUP(C147,高体連番号!$A$2:$C$81,3),\"\")","v":""}]
[null,141,null,{"$f":"IFERROR(VLOOKUP(C148,高体連番号!$A$2:$C$81,3),\"\")","v":""}]
[null,142,null,{"$f":"IFERROR(VLOOKUP(C149,高体連番号!$A$2:$C$81,3),\"\")","v":""}]
[null,143,null,{"$f":"IFERROR(VLOOKUP(C150,高体連番号!$A$2:$C$81,3),\"\")","v":""}]
[null,144,null,{"$f":"IFERROR(VLOOKUP(C151,高体連番号!$A$2:$C$81,3),\"\")","v":""}]
[null,145,null,{"$f":"IFERROR(VLOOKUP(C152,高体連番号!$A$2:$C$81,3),\"\")","v":""}]
[null,146,null,{"$f":"IFERROR(VLOOKUP(C153,高体連番号!$A$2:$C$81,3),\"\")","v":""}]
[null,147,null,{"$f":"IFERROR(VLOOKUP(C154,高体連番号!$A$2:$C$81,3),\"\")","v":""}]
[null,148,null,{"$f":"IFERROR(VLOOKUP(C155,高体連番号!$A$2:$C$81,3),\"\")","v":""}]
[null,149,null,{"$f":"IFERROR(VLOOKUP(C156,高体連番号!$A$2:$C$81,3),\"\")","v":""}]
[null,150,null,{"$f":"IFERROR(VLOOKUP(C157,高体連番号!$A$2:$C$81,3),\"\")","v":""}]
[null,151,null,{"$f":"IFERROR(VLOOKUP(C158,高体連番号!$A$2:$C$81,3),\"\")","v":""}]
[null,152,null,{"$f":"IFERROR(VLOOKUP(C159,高体連番号!$A$2:$C$81,3),\"\")","v":""}]
[null,153,null,{"$f":"IFERROR(VLOOKUP(C160,高体連番号!$A$2:$C$81,3),\"\")","v":""}]
[null,154,null,{"$f":"IFERROR(VLOOKUP(C161,高体連番号!$A$2:$C$81,3),\"\")","v":""}]
[null,155,null,{"$f":"IFERROR(VLOOKUP(C162,高体連番号!$A$2:$C$81,3),\"\")","v":""}]
[null,156,null,{"$f":"IFERROR(VLOOKUP(C163,高体連番号!$A$2:$C$81,3),\"\")","v":""}]
[null,157,null,{"$f":"IFERROR(VLOOKUP(C164,高体連番号!$A$2:$C$81,3),\"\")","v":""}]
[null,158,null,{"$f":"IFERROR(VLOOKUP(C165,高体連番号!$A$2:$C$81,3),\"\")","v":""}]
[null,159,null,{"$f":"IFERROR(VLOOKUP(C166,高体連番号!$A$2:$C$81,3),\"\")","v":""}]
[null,160,null,{"$f":"IFERROR(VLOOKUP(C167,高体連番号!$A$2:$C$81,3),\"\")","v":""}]
[null,161,null,{"$f":"IFERROR(VLOOKUP(C168,高体連番号!$A$2:$C$81,3),\"\")","v":""}]
[null,162,null,{"$f":"IFERROR(VLOOKUP(C169,高体連番号!$A$2:$C$81,3),\"\")","v":""}]
[null,163,null,{"$f":"IFERROR(VLOOKUP(C170,高体連番号!$A$2:$C$81,3),\"\")","v":""}]
[null,164,null,{"$f":"IFERROR(VLOOKUP(C171,高体連番号!$A$2:$C$81,3),\"\")","v":""}]
[null,165,null,{"$f":"IFERROR(VLOOKUP(C172,高体連番号!$A$2:$C$81,3),\"\")","v":""}]
[null,166,null,{"$f":"IFERROR(VLOOKUP(C173,高体連番号!$A$2:$C$81,3),\"\")","v":""}]
[null,167,null,{"$f":"IFERROR(VLOOKUP(C174,高体連番号!$A$2:$C$81,3),\"\")","v":""}]
[null,168,null,{"$f":"IFERROR(VLOOKUP(C175,高体連番号!$A$2:$C$81,3),\"\")","v":""}]
[null,169,null,{"$f":"IFERROR(VLOOKUP(C176,高体連番号!$A$2:$C$81,3),\"\")","v":""}]
[null,170,null,{"$f":"IFERROR(VLOOKUP(C177,高体連番号!$A$2:$C$81,3),\"\")","v":""}]
[null,171,null,{"$f":"IFERROR(VLOOKUP(C178,高体連番号!$A$2:$C$81,3),\"\")","v":""}]
[null,172,null,{"$f":"IFERROR(VLOOKUP(C179,高体連番号!$A$2:$C$81,3),\"\")","v":""}]
[null,173,null,{"$f":"IFERROR(VLOOKUP(C180,高体連番号!$A$2:$C$81,3),\"\")","v":""}]
[null,174,null,{"$f":"IFERROR(VLOOKUP(C181,高体連番号!$A$2:$C$81,3),\"\")","v":""}]
[null,175,null,{"$f":"IFERROR(VLOOKUP(C182,高体連番号!$A$2:$C$81,3),\"\")","v":""}]
[null,176,null,{"$f":"IFERROR(VLOOKUP(C183,高体連番号!$A$2:$C$81,3),\"\")","v":""}]
[null,177,null,{"$f":"IFERROR(VLOOKUP(C184,高体連番号!$A$2:$C$81,3),\"\")","v":""}]
[null,178,null,{"$f":"IFERROR(VLOOKUP(C185,高体連番号!$A$2:$C$81,3),\"\")","v":""}]
[null,179,null,{"$f":"IFERROR(VLOOKUP(C186,高体連番号!$A$2:$C$81,3),\"\")","v":""}]
[null,180,null,{"$f":"IFERROR(VLOOKUP(C187,高体連番号!$A$2:$C$81,3),\"\")","v":""}]
[null,181,null,{"$f":"IFERROR(VLOOKUP(C188,高体連番号!$A$2:$C$81,3),\"\")","v":""}]
[null,182,null,{"$f":"IFERROR(VLOOKUP(C189,高体連番号!$A$2:$C$81,3),\"\")","v":""}]
[null,183,null,{"$f":"IFERROR(VLOOKUP(C190,高体連番号!$A$2:$C$81,3),\"\")","v":""}]
[null,184,null,{"$f":"IFERROR(VLOOKUP(C191,高体連番号!$A$2:$C$81,3),\"\")","v":""}]
[null,185,null,{"$f":"IFERROR(VLOOKUP(C192,高体連番号!$A$2:$C$81,3),\"\")","v":""}]
[null,186,null,{"$f":"IFERROR(VLOOKUP(C193,高体連番号!$A$2:$C$81,3),\"\")","v":""}]
[null,187,null,{"$f":"IFERROR(VLOOKUP(C194,高体連番号!$A$2:$C$81,3),\"\")","v":""}]
[null,188,null,{"$f":"IFERROR(VLOOKUP(C195,高体連番号!$A$2:$C$81,3),\"\")","v":""}]
[null,189,null,{"$f":"IFERROR(VLOOKUP(C196,高体連番号!$A$2:$C$81,3),\"\")","v":""}]
[null,190,null,{"$f":"IFERROR(VLOOKUP(C197,高体連番号!$A$2:$C$81,3),\"\")","v":""}]
[null,191,null,{"$f":"IFERROR(VLOOKUP(C198,高体連番号!$A$2:$C$81,3),\"\")","v":""}]
[null,192,null,{"$f":"IFERROR(VLOOKUP(C199,高体連番号!$A$2:$C$81,3),\"\")","v":""}]
[null,193,null,{"$f":"IFERROR(VLOOKUP(C200,高体連番号!$A$2:$C$81,3),\"\")","v":""}]
[null,194,null,{"$f":"IFERROR(VLOOKUP(C201,高体連番号!$A$2:$C$81,3),\"\")","v":""}]
[null,195,null,{"$f":"IFERROR(VLOOKUP(C202,高体連番号!$A$2:$C$81,3),\"\")","v":""}]
[null,196,null,{"$f":"IFERROR(VLOOKUP(C203,高体連番号!$A$2:$C$81,3),\"\")","v":""}]
[null,197,null,{"$f":"IFERROR(VLOOKUP(C204,高体連番号!$A$2:$C$81,3),\"\")","v":""}]
[null,198,null,{"$f":"IFERROR(VLOOKUP(C205,高体連番号!$A$2:$C$81,3),\"\")","v":""}]
[null,199,null,{"$f":"IFERROR(VLOOKUP(C206,高体連番号!$A$2:$C$81,3),\"\")","v":""}]
[null,200,null,{"$f":"IFERROR(VLOOKUP(C207,高体連番号!$A$2:$C$81,3),\"\")","v":""}]

{"sheet":"完成例","index":1,"n_rows":0,"n_cols":0,"rows_kept":0,"cut":false,"hidden":false,"merged":[]}

{"sheet":"高体連番号","index":2,"n_rows":147,"n_cols":3,"rows_kept":147,"cut":false,"hidden":false,"merged":[[0,0,0,2]]}
["令和３年度　高体連学校番号"]
[1,"前　橋","前橋高等学校"]
[2,"清　陵","前橋清陵高等学校"]
[3,"前　工","前橋工業高等学校"]
[4,"前　商","前橋商業高等学校"]
[5,"勢　農","勢多農林高等学校"]
[6,"前　女","前橋女子高等学校"]
[7,"市前橋","市立前橋高等学校"]
[8,"前　南","前橋南高等学校"]
[9,"共　愛","共愛学園高等学校"]
[10,"育　英","前橋育英高等学校"]
[11,"前　東","前橋東高等学校"]
[12,"前　西","前橋西高等学校"]
[13,"ろ　う","聾学校高等学校"]
[14,"伊　商","伊勢崎商業高等学校"]
[15,"伊　工","伊勢崎工業高等学校"]
[16,"清　明","伊勢崎清明高等学校"]
[17,"興　陽","伊勢崎興陽高等学校"]
[18,"玉　村","玉村高等学校"]
[19,"伊勢崎","伊勢崎高等学校"]
[20,"四ツ葉","市立四ツ葉学園中等教育学校"]
[21,"桐　生","桐生高等学校"]
[22,"桐　工","桐生工業高等学校"]
[23,"桐　商","桐生市立商業高等学校"]
[24,"桐　一","桐生第一高等学校"]
[25,"樹　徳","樹徳高等学校"]
[26,"大間々","大間々高等学校"]
[27,"清桜","桐生清桜高等学校"]
[28,"太　田","太田高等学校"]
[29,"太　女","太田女子高等学校"]
[30,"太　工","太田工業高等学校"]
[31,"新田暁","新田暁高等学校"]
[32,"市太田","市立太田高等学校"]
[33,"常　磐","常磐高等学校"]
[34,"太　東","太田東高等学校"]
[35,"太フ高","太田フレックス高等学校"]
[36,"ＧＫＡ","ぐんま国際アカデミー高等学校"]
[37,"館　林","館林高等学校"]
[38,"館　女","館林女子高等学校"]
[39,"板　倉","板倉高等学校"]
[40,"関　学","関東学園大学附属高等学校"]
[41,"大　泉","大泉高等学校"]
[42,"西邑楽","西邑楽高等学校"]
[43,"館商工","館林商工高等学校"]
[44,"渋　川","渋川高等学校"]
[45,"渋　女","渋川女子高等学校"]
[46,"渋　工","渋川工業高等学校"]
[47,"青　翠","渋川青翠高等学校"]
[48,"沼　田","沼田高等学校"]
[49,"尾　瀬","尾瀬高等学校"]
[50,"沼　女","沼田女子高等学校"]
[51,"利根実","利根実業高等学校"]
[52,"利　商","利根商業高等学校"]
[53,"嬬　恋","嬬恋高等学校"]
[54,"長野原","長野原高等学校"]
[55,"白　根","白根開善高等学校"]
[56,"吾中央","吾妻中央高等学校"]
[57,"高　崎","高崎高等学校"]
[58,"高　工","高崎工業高等学校"]
[59,"高　商","高崎商業高等学校"]
[60,"高　女","高崎女子高等学校"]
[61,"高経附","市立高崎経済大学附属高等学校"]
[62,"農　二","東京農業大学第二高等学校"]
[63,"商大附","高崎商科大学附属高等学校"]
[64,"健大高","高崎健康福祉大学高崎高等学校"]
[65,"高　北","高崎北高等学校"]
[66,"榛　名","榛名高等学校"]
[67,"高　東","高崎東高等学校"]
[68,"県　央","明和県央高等学校"]
[69,"中央中等","中央中等教育学校"]
[70,"吉　井","吉井高等学校"]
[71,"松井田","松井田高等学校"]
[72,"新　島","新島学園高等学校"]
[73,"安総合","安中総合学園高等学校"]
[74,"富　岡","富岡高等学校"]
[75,"富　実","富岡実業高等学校"]
[76,"下仁田","下仁田高等学校"]
[77,"藤　工","藤岡工業高等学校"]
[78,"万　場","万場高等学校"]
[79,"藤　北","藤岡北高等学校"]
[80,"藤中央","藤岡中央高等学校"]
[]
["陸上競技","06:00:00","2021-04-15"]
["バスケットボール","06:15:00","2021-04-20"]
["バレーボール","06:30:00","2021-04-28"]
["ソフトテニス","06:45:00"]
["卓球","07:00:00"]
["ラ グ ビ ー","07:15:00"]
["サ ッ カ ー","07:30:00"]
["ハンドボール","07:45:00"]
["ソフトボール","08:00:00"]
["水泳","08:15:00"]
["体操","08:30:00"]
["相撲","08:45:00"]
["登山","09:00:00"]
["バドミントン","09:15:00"]
["スキー","09:30:00"]
["スケート","09:45:00"]
["ダンス","10:00:00"]
["柔道","10:15:00"]
["剣道","10:30:00"]
["軟式野球","10:45:00"]
["レスリング","11:00:00"]
["弓道","11:15:00"]
["自転車競技","11:30:00"]
["ボクシング","11:45:00"]
["ウエイトリフティング","12:00:00"]
["フェンシング","12:15:00"]
["テニス","12:30:00"]
["空手道","12:45:00"]
["アーチェリー","13:00:00"]
["ボート","13:15:00"]
["ホッケー","13:30:00"]
["なぎなた","13:45:00"]
["カヌー","14:00:00"]
["少林寺拳法","14:15:00"]
[null,"14:30:00"]
[null,"14:45:00"]
[null,"15:00:00"]
[null,"15:15:00"]
[null,"15:30:00"]
[null,"15:45:00"]
[null,"16:00:00"]
[null,"16:15:00"]
[null,"16:30:00"]
[null,"16:45:00"]
[null,"17:00:00"]
[null,"17:15:00"]
[null,"17:30:00"]
[null,"17:45:00"]
[null,"18:00:00"]
[null,"18:15:00"]
[null,"18:30:00"]
[null,"18:45:00"]
[null,"19:00:00"]
[null,"19:15:00"]
[null,"19:30:00"]
[null,"19:45:00"]
[null,"20:00:00"]
[null,"20:15:00"]
[null,"20:30:00"]
[null,"20:45:00"]
[null,"21:00:00"]
[null,"21:15:00"]
[null,"21:30:00"]
[null,"21:45:00"]
[null,"22:00:00"]